BEGIN:VCALENDAR
CALSCALE:GREGORIAN
BEGIN:VEVENT
DTSTAMP:20250112T005109Z
DTSTART:20211202T023022Z
DTEND:20211202T043022Z
SUMMARY:Hahn Elementary School Painting Event @ Sally Tomatoes
UID:c78ccc85-a09d-43a3-a6f1-ed6148f792cb
LOCATION:1100 Valley House Dr\, Rohnert Park\, CA 94928\, USA
DESCRIPTION:Thank you for registering to our painting event! Your name is on our list\, so don't forget your name\, lol. (Remember to bring your ID if its a drinking establishment) \n\nWe're looking forward to seeing you there.\n\nHere are the details:\nHere are the details:\n\nHahn Elementary School Painting Event @ Sally Tomatoes\nDecember 1\, 2021\, 6:30 – 8:30 PM\nSally Tomatoes in Rohnert Park\, 1100 Valley House Dr\, Rohnert Park\, CA 94928\, USA
X-ALT-DESC;FMTTYPE=text/html:Thank you for registering to our painting event! Your name is on our list\, so don't forget your name\, lol. (Remember to bring your ID if its a drinking establishment) \n\nWe're looking forward to seeing you there.\n\nHere are the details:\nHere are the details:<br>Hahn Elementary School Painting Event @ Sally Tomatoes\nDecember 1\, 2021\, 6:30 – 8:30 PM\nSally Tomatoes in Rohnert Park\, 1100 Valley House Dr\, Rohnert Park\, CA 94928\, USA
END:VEVENT
END:VCALENDAR
