BEGIN:VCALENDAR
CALSCALE:GREGORIAN
BEGIN:VEVENT
DTSTAMP:20250112T004855Z
DTSTART:20231118T003000Z
DTEND:20231118T033000Z
SUMMARY:Northern California Palliative Care 3rd Annual Paint Night
UID:c323182a-f8cb-4cde-b56c-10e418b51d9a
LOCATION:1761 Meek Ave\, Napa\, CA 94559\, USA
DESCRIPTION:Thank you for registering to our event! Your tickets are attached to this email. Don't forget to bring them.\n\nWe're looking forward to seeing you there.\n\nHere are the details:\n\nNorthern California Palliative Care 3rd Annual Paint Night\nNovember 17\, 2023\, 4:30 – 7:30 PM\nJill Souza\, 1761 Meek Ave\, Napa\, CA 94559\, USA
X-ALT-DESC;FMTTYPE=text/html:Thank you for registering to our event! Your tickets are attached to this email. Don't forget to bring them.\n\nWe're looking forward to seeing you there.\n\nHere are the details:<br>Northern California Palliative Care 3rd Annual Paint Night\nNovember 17\, 2023\, 4:30 – 7:30 PM\nJill Souza\, 1761 Meek Ave\, Napa\, CA 94559\, USA
END:VEVENT
END:VCALENDAR
