BEGIN:VCALENDAR
CALSCALE:GREGORIAN
BEGIN:VEVENT
DTSTAMP:20250112T004729Z
DTSTART:20240517T010000Z
DTEND:20240517T030000Z
SUMMARY:Young & Yonder Spirits in Healdsburg 
UID:c374a419-50ce-42e0-9837-227f3cfba55b
LOCATION:449 Allan Ct\, Healdsburg\, CA 95448\, USA
DESCRIPTION:Thank you for registering to our event! Your tickets are attached to this email. Don't forget to bring them.\n\nWe're looking forward to seeing you there.\n\nHere are the details:\n\nYoung & Yonder Spirits in Healdsburg \nMay 16\, 2024\, 6:00 – 8:00 PM\nYoung & Yonder Spirits\, 449 Allan Ct\, Healdsburg\, CA 95448\, USA
X-ALT-DESC;FMTTYPE=text/html:Thank you for registering to our event! Your tickets are attached to this email. Don't forget to bring them.\n\nWe're looking forward to seeing you there.\n\nHere are the details:<br>Young & Yonder Spirits in Healdsburg \nMay 16\, 2024\, 6:00 – 8:00 PM\nYoung & Yonder Spirits\, 449 Allan Ct\, Healdsburg\, CA 95448\, USA
END:VEVENT
END:VCALENDAR
