BEGIN:VCALENDAR
CALSCALE:GREGORIAN
BEGIN:VEVENT
DTSTAMP:20250112T004858Z
DTSTART:20221108T230000Z
DTEND:20221110T010000Z
SUMMARY:Medtronic Private Painting Event
UID:c382d588-cad9-4f64-8e37-aac23ce737ef
LOCATION:Sonoma County\, CA\, USA
DESCRIPTION:Thank you for registering to our event! Your tickets are attached to this email. Don't forget to bring them.\n\nWe're looking forward to seeing you there.\n\nHere are the details:\n\nMedtronic Private Painting Event\nNovember 8\, 2022 at 3:00 PM – November 9\, 2022 at 5:00 PM\nSonoma County\, Sonoma County\, CA\, USA
X-ALT-DESC;FMTTYPE=text/html:Thank you for registering to our event! Your tickets are attached to this email. Don't forget to bring them.\n\nWe're looking forward to seeing you there.\n\nHere are the details:<br>Medtronic Private Painting Event\nNovember 8\, 2022 at 3:00 PM – November 9\, 2022 at 5:00 PM\nSonoma County\, Sonoma County\, CA\, USA
END:VEVENT
END:VCALENDAR
