BEGIN:VCALENDAR
CALSCALE:GREGORIAN
BEGIN:VEVENT
DTSTAMP:20250112T004903Z
DTSTART:20231122T020000Z
DTEND:20231122T033000Z
SUMMARY:Succulent Topped Mini Pumpkins Centerpiece@Sally Tomatoes  
UID:cc7ff697-1cbc-479b-b77f-ba54a6f0b2cd
LOCATION:1100 Valley House Dr\, Rohnert Park\, CA 94928\, USA
DESCRIPTION:Thank you for registering to our painting event! Your name is on our list\, so don't forget your name\, lol. (Remember to bring your ID if its a drinking establishment) \n\nWe're looking forward to seeing you there.\n\nHere are the details:\nHere are the details:\n\nSucculent Topped Mini Pumpkins Centerpiece@Sally Tomatoes  \nNovember 21\, 2023\, 6:00 – 7:30 PM\nSally Tomatoes in Rohnert Park\, 1100 Valley House Dr\, Rohnert Park\, CA 94928\, USA
X-ALT-DESC;FMTTYPE=text/html:Thank you for registering to our painting event! Your name is on our list\, so don't forget your name\, lol. (Remember to bring your ID if its a drinking establishment) \n\nWe're looking forward to seeing you there.\n\nHere are the details:\nHere are the details:<br>Succulent Topped Mini Pumpkins Centerpiece@Sally Tomatoes  \nNovember 21\, 2023\, 6:00 – 7:30 PM\nSally Tomatoes in Rohnert Park\, 1100 Valley House Dr\, Rohnert Park\, CA 94928\, USA
END:VEVENT
END:VCALENDAR
