BEGIN:VCALENDAR
CALSCALE:GREGORIAN
BEGIN:VEVENT
DTSTAMP:20250112T004803Z
DTSTART:20230216T020000Z
DTEND:20230216T040000Z
SUMMARY:Partner Painting @Sally Tomatoes 2/15/23 
UID:d4d1d40f-ce9a-49f2-aacb-628b61fb03fb
LOCATION:1100 Valley House Dr\, Rohnert Park\, CA 94928\, USA
DESCRIPTION:Thank you for registering to our painting event! Your name is on our list\, so don't forget your name\, lol. (Remember to bring your ID if its a drinking establishment) \n\nWe're looking forward to seeing you there.\n\nHere are the details:\nHere are the details:\n\nPartner Painting @Sally Tomatoes 2/15/23 \nFebruary 15\, 2023\, 6:00 – 8:00 PM\nSally Tomatoes in Rohnert Park\, 1100 Valley House Dr\, Rohnert Park\, CA 94928\, USA
X-ALT-DESC;FMTTYPE=text/html:Thank you for registering to our painting event! Your name is on our list\, so don't forget your name\, lol. (Remember to bring your ID if its a drinking establishment) \n\nWe're looking forward to seeing you there.\n\nHere are the details:\nHere are the details:<br>Partner Painting @Sally Tomatoes 2/15/23 \nFebruary 15\, 2023\, 6:00 – 8:00 PM\nSally Tomatoes in Rohnert Park\, 1100 Valley House Dr\, Rohnert Park\, CA 94928\, USA
END:VEVENT
END:VCALENDAR
