BEGIN:VCALENDAR
CALSCALE:GREGORIAN
BEGIN:VEVENT
DTSTAMP:20250112T004921Z
DTSTART:20240329T010000Z
DTEND:20240329T030000Z
SUMMARY:Painting @ Tonti Family Wines 
UID:d6a364bc-0668-42ed-9354-e01374e9574b
LOCATION:9086 Windsor Rd\, Windsor\, CA 95492\, USA
DESCRIPTION:Thank you for registering to our painting event! Your name is on our list\, so don't forget your name\, lol. (Remember to bring your ID if its a drinking establishment) \n\nWe're looking forward to seeing you there.\n\nHere are the details:\nHere are the details:\n\nPainting @ Tonti Family Wines \nMarch 28\, 2024\, 6:00 – 8:00 PM\nTonti Family Wines\, 9086 Windsor Rd\, Windsor\, CA 95492\, USA
X-ALT-DESC;FMTTYPE=text/html:Thank you for registering to our painting event! Your name is on our list\, so don't forget your name\, lol. (Remember to bring your ID if its a drinking establishment) \n\nWe're looking forward to seeing you there.\n\nHere are the details:\nHere are the details:<br>Painting @ Tonti Family Wines \nMarch 28\, 2024\, 6:00 – 8:00 PM\nTonti Family Wines\, 9086 Windsor Rd\, Windsor\, CA 95492\, USA
END:VEVENT
END:VCALENDAR
