BEGIN:VCALENDAR
CALSCALE:GREGORIAN
BEGIN:VEVENT
DTSTAMP:20250112T005102Z
DTSTART:20230208T010000Z
DTEND:20230208T033000Z
SUMMARY:Private Paint Your Pet Event\, Geyserville
UID:d770a98c-9a2d-4ac7-8563-4d152d18c5b2
LOCATION:8533 Dry Creek Rd\, Geyserville\, CA 95441\, USA
DESCRIPTION:Thank you for registering to our event! Your tickets are attached to this email. Don't forget to bring them.\n\nWe're looking forward to seeing you there.\n\nHere are the details:\n\nPrivate Paint Your Pet Event\, Geyserville\nFebruary 7\, 2023\, 5:00 – 7:30 PM\nGeyserville\, 8533 Dry Creek Rd\, Geyserville\, CA 95441\, USA
X-ALT-DESC;FMTTYPE=text/html:Thank you for registering to our event! Your tickets are attached to this email. Don't forget to bring them.\n\nWe're looking forward to seeing you there.\n\nHere are the details:<br>Private Paint Your Pet Event\, Geyserville\nFebruary 7\, 2023\, 5:00 – 7:30 PM\nGeyserville\, 8533 Dry Creek Rd\, Geyserville\, CA 95441\, USA
END:VEVENT
END:VCALENDAR
