BEGIN:VCALENDAR
CALSCALE:GREGORIAN
BEGIN:VEVENT
DTSTAMP:20250112T004933Z
DTSTART:20231122T020000Z
DTEND:20231123T020000Z
SUMMARY:Painting @Sally Tomatoes 
UID:d2c255b2-857b-42c4-8b4f-0b65399ff586
LOCATION:1100 Valley House Dr\, Rohnert Park\, CA 94928\, USA
DESCRIPTION:Thank you for registering to our painting event! Your name is on our list\, so don't forget your name\, lol. (Remember to bring your ID if its a drinking establishment) \n\nWe're looking forward to seeing you there.\n\nHere are the details:\nHere are the details:\n\nPainting @Sally Tomatoes \nNovember 21\, 2023 at 6:00 PM – November 22\, 2023 at 6:00 PM\nSally Tomatoes in Rohnert Park\, 1100 Valley House Dr\, Rohnert Park\, CA 94928\, USA
X-ALT-DESC;FMTTYPE=text/html:Thank you for registering to our painting event! Your name is on our list\, so don't forget your name\, lol. (Remember to bring your ID if its a drinking establishment) \n\nWe're looking forward to seeing you there.\n\nHere are the details:\nHere are the details:<br>Painting @Sally Tomatoes \nNovember 21\, 2023 at 6:00 PM – November 22\, 2023 at 6:00 PM\nSally Tomatoes in Rohnert Park\, 1100 Valley House Dr\, Rohnert Park\, CA 94928\, USA
END:VEVENT
END:VCALENDAR
