BEGIN:VCALENDAR
CALSCALE:GREGORIAN
BEGIN:VEVENT
DTSTAMP:20250112T004927Z
DTSTART:20240223T023000Z
DTEND:20240223T043000Z
SUMMARY:Painting@Mountain Mike's Pizza\, Cleveland Ave. Santa Rosa   
UID:dae4fabe-97e9-4645-a7e2-1d84c4f1e5f5
LOCATION:3125 Cleveland Ave\, Santa Rosa\, CA 95403\, USA
DESCRIPTION:Thank you for registering to our painting event! Your name is on our list\, so don't forget your name\, lol. (Remember to bring your ID if its a drinking establishment) \n\nWe're looking forward to seeing you there.\n\nHere are the details:\nHere are the details:\n\nPainting@Mountain Mike's Pizza\, Cleveland Ave. Santa Rosa   \nFebruary 22\, 2024\, 6:30 – 8:30 PM\nMountian Mike's Pizza\, 3125 Cleveland Ave\, Santa Rosa\, CA 95403\, USA
X-ALT-DESC;FMTTYPE=text/html:Thank you for registering to our painting event! Your name is on our list\, so don't forget your name\, lol. (Remember to bring your ID if its a drinking establishment) \n\nWe're looking forward to seeing you there.\n\nHere are the details:\nHere are the details:<br>Painting@Mountain Mike's Pizza\, Cleveland Ave. Santa Rosa   \nFebruary 22\, 2024\, 6:30 – 8:30 PM\nMountian Mike's Pizza\, 3125 Cleveland Ave\, Santa Rosa\, CA 95403\, USA
END:VEVENT
END:VCALENDAR
