BEGIN:VCALENDAR
CALSCALE:GREGORIAN
BEGIN:VEVENT
DTSTAMP:20250112T005050Z
DTSTART:20220310T023000Z
DTEND:20220310T043000Z
SUMMARY:Peacock Painting Event at Reel and Brand 
UID:db1e2a71-5ae9-4165-a84e-edfede929c65
LOCATION:401 Grove St\, Sonoma\, CA 95476\, USA
DESCRIPTION:Thank you for registering to our event! Your tickets are attached to this email. Don't forget to bring them.\n\nWe're looking forward to seeing you there.\n\nHere are the details:\n\nPeacock Painting Event at Reel and Brand \nMarch 9\, 2022\, 6:30 – 8:30 PM\nReel and Brand Restaurant\, 401 Grove St\, Sonoma\, CA 95476\, USA
X-ALT-DESC;FMTTYPE=text/html:Thank you for registering to our event! Your tickets are attached to this email. Don't forget to bring them.\n\nWe're looking forward to seeing you there.\n\nHere are the details:<br>Peacock Painting Event at Reel and Brand \nMarch 9\, 2022\, 6:30 – 8:30 PM\nReel and Brand Restaurant\, 401 Grove St\, Sonoma\, CA 95476\, USA
END:VEVENT
END:VCALENDAR
