BEGIN:VCALENDAR
CALSCALE:GREGORIAN
BEGIN:VEVENT
DTSTAMP:20250112T004856Z
DTSTART:20210729T013000Z
DTEND:20210729T033000Z
SUMMARY:Rooster Painting at Reel and Brand
UID:dfe72899-b913-441c-a4cd-9efe81c60242
LOCATION:401 Grove St\, Sonoma\, CA 95476\, USA
DESCRIPTION:Thank you for registering to our event! Your tickets are attached to this email. Don't forget to bring them.\n\nWe're looking forward to seeing you there.\n\nHere are the details:\n\nRooster Painting at Reel and Brand\nJuly 28\, 2021\, 6:30 – 8:30 PM\nReel and Brand Restaurant\, 401 Grove St\, Sonoma\, CA 95476\, USA
X-ALT-DESC;FMTTYPE=text/html:Thank you for registering to our event! Your tickets are attached to this email. Don't forget to bring them.\n\nWe're looking forward to seeing you there.\n\nHere are the details:<br>Rooster Painting at Reel and Brand\nJuly 28\, 2021\, 6:30 – 8:30 PM\nReel and Brand Restaurant\, 401 Grove St\, Sonoma\, CA 95476\, USA
END:VEVENT
END:VCALENDAR
