BEGIN:VCALENDAR
CALSCALE:GREGORIAN
BEGIN:VEVENT
DTSTAMP:20250112T005033Z
DTSTART:20221205T010000Z
DTEND:20221205T010500Z
SUMMARY: Red Barn Painting Event @Bear Republic 12/4/22
UID:e4752e9e-c6a7-4d1a-9a7d-b1f3c8cddeb4
LOCATION:5000 Roberts Lake Rd\, Rohnert Park\, CA 94928\, USA
DESCRIPTION:Thank you for registering to our painting event! Your name is on our list\, so don't forget your name\, lol. (Remember to bring your ID if its a drinking establishment) \n\nWe're looking forward to seeing you there.\n\nHere are the details:\nHere are the details:\n\nRed Barn Painting Event @Bear Republic 12/4/22\nDecember 4\, 2022\, 5:00 – 5:05 PM\nBear Republic Brewing Co.\, 5000 Roberts Lake Rd\, Rohnert Park\, CA 94928\, USA
X-ALT-DESC;FMTTYPE=text/html:Thank you for registering to our painting event! Your name is on our list\, so don't forget your name\, lol. (Remember to bring your ID if its a drinking establishment) \n\nWe're looking forward to seeing you there.\n\nHere are the details:\nHere are the details:<br>Red Barn Painting Event @Bear Republic 12/4/22\nDecember 4\, 2022\, 5:00 – 5:05 PM\nBear Republic Brewing Co.\, 5000 Roberts Lake Rd\, Rohnert Park\, CA 94928\, USA
END:VEVENT
END:VCALENDAR
