BEGIN:VCALENDAR
CALSCALE:GREGORIAN
BEGIN:VEVENT
DTSTAMP:20250112T005109Z
DTSTART:20240523T010000Z
DTEND:20240523T030000Z
SUMMARY:Painting @ Tasting Notes - Wine Lounge Collective
UID:e720cca4-2359-4419-80dc-682333d1e685
LOCATION:9086 Windsor Rd\, Windsor\, CA 95492\, USA
DESCRIPTION:Thank you for registering to our painting event! Your name is on our list\, so don't forget your name\, lol. (Remember to bring your ID if its a drinking establishment) \n\nWe're looking forward to seeing you there.\n\nHere are the details:\nHere are the details:\n\nPainting @ Tasting Notes - Wine Lounge Collective\nMay 22\, 2024\, 6:00 – 8:00 PM\nTasting Notes - Wine Lounge Collective\, 9086 Windsor Rd\, Windsor\, CA 95492\, USA
X-ALT-DESC;FMTTYPE=text/html:Thank you for registering to our painting event! Your name is on our list\, so don't forget your name\, lol. (Remember to bring your ID if its a drinking establishment) \n\nWe're looking forward to seeing you there.\n\nHere are the details:\nHere are the details:<br>Painting @ Tasting Notes - Wine Lounge Collective\nMay 22\, 2024\, 6:00 – 8:00 PM\nTasting Notes - Wine Lounge Collective\, 9086 Windsor Rd\, Windsor\, CA 95492\, USA
END:VEVENT
END:VCALENDAR
