BEGIN:VCALENDAR
CALSCALE:GREGORIAN
BEGIN:VEVENT
DTSTAMP:20250112T004349Z
DTSTART:20240117T023000Z
DTEND:20240117T043000Z
SUMMARY: Mc Near's Saloon - Painting
UID:e1c0ac2f-0ad6-4058-a0d9-376ab286aa56
LOCATION:23 Petaluma Blvd N\, Petaluma\, CA 94952\, USA
DESCRIPTION:Thank you for registering to our painting event! Your name is on our list\, so don't forget your name\, lol. (Remember to bring your ID if its a drinking establishment) \n\nWe're looking forward to seeing you there.\n\nHere are the details:\nHere are the details:\n\nMc Near's Saloon - Painting\nJanuary 16\, 2024\, 6:30 – 8:30 PM\nMc Near's Saloon\, 23 Petaluma Blvd N\, Petaluma\, CA 94952\, USA
X-ALT-DESC;FMTTYPE=text/html:Thank you for registering to our painting event! Your name is on our list\, so don't forget your name\, lol. (Remember to bring your ID if its a drinking establishment) \n\nWe're looking forward to seeing you there.\n\nHere are the details:\nHere are the details:<br>Mc Near's Saloon - Painting\nJanuary 16\, 2024\, 6:30 – 8:30 PM\nMc Near's Saloon\, 23 Petaluma Blvd N\, Petaluma\, CA 94952\, USA
END:VEVENT
END:VCALENDAR
