BEGIN:VCALENDAR
CALSCALE:GREGORIAN
BEGIN:VEVENT
DTSTAMP:20250112T005059Z
DTSTART:20240406T010000Z
DTEND:20240406T030000Z
SUMMARY:Bachelorette Party 
UID:e1c1b0ae-c603-474e-bf20-18d84498e946
LOCATION:3125 Cleveland Ave\, Santa Rosa\, CA 95403\, USA
DESCRIPTION:Thank you for registering to our event! Your tickets are attached to this email. Don't forget to bring them.\n\nWe're looking forward to seeing you there.\n\nHere are the details:\n\nBachelorette Party \nApril 5\, 2024\, 6:00 – 8:00 PM\nMountain Mike's Pizza\, 3125 Cleveland Ave\, Santa Rosa\, CA 95403\, USA
X-ALT-DESC;FMTTYPE=text/html:Thank you for registering to our event! Your tickets are attached to this email. Don't forget to bring them.\n\nWe're looking forward to seeing you there.\n\nHere are the details:<br>Bachelorette Party \nApril 5\, 2024\, 6:00 – 8:00 PM\nMountain Mike's Pizza\, 3125 Cleveland Ave\, Santa Rosa\, CA 95403\, USA
END:VEVENT
END:VCALENDAR
