BEGIN:VCALENDAR
CALSCALE:GREGORIAN
BEGIN:VEVENT
DTSTAMP:20250112T004924Z
DTSTART:20240627T010000Z
DTEND:20240627T033000Z
SUMMARY:Paint Your Pet @Tasting Notes - Wine Lounge Collective
UID:e2d0b4d7-4419-4f6b-bd11-b58dd10e908d
LOCATION:9086 Windsor Rd\, Windsor\, CA 95492\, USA
DESCRIPTION:Thank you for registering to our painting event!\nPlease reply to this email or email\, Info@asipofcolor.com \nInclude:\nYour name you signed up under. Date of event and a photo of your pets face. Please send us a clear image\, Ideally your pets face down at there level\, straight on. Tip\, take a short video of your pet and send an image from that.  Please do so with in 24 hours of signing up. Thank you!\n\n Your name is on our list\, so don't forget your name\, lol. (Remember to bring your ID if its a drinking establishment) \n\nWe're looking forward to seeing you there.\n\nHere are the details:\n\nPaint Your Pet @Tasting Notes - Wine Lounge Collective\nJune 26\, 2024\, 6:00 – 8:30 PM\nTasting Notes - Wine Lounge Collective\, 9086 Windsor Rd\, Windsor\, CA 95492\, USA
X-ALT-DESC;FMTTYPE=text/html:Thank you for registering to our painting event!\nPlease reply to this email or email\, Info@asipofcolor.com \nInclude:\nYour name you signed up under. Date of event and a photo of your pets face. Please send us a clear image\, Ideally your pets face down at there level\, straight on. Tip\, take a short video of your pet and send an image from that.  Please do so with in 24 hours of signing up. Thank you!\n\n Your name is on our list\, so don't forget your name\, lol. (Remember to bring your ID if its a drinking establishment) \n\nWe're looking forward to seeing you there.\n\nHere are the details:<br>Paint Your Pet @Tasting Notes - Wine Lounge Collective\nJune 26\, 2024\, 6:00 – 8:30 PM\nTasting Notes - Wine Lounge Collective\, 9086 Windsor Rd\, Windsor\, CA 95492\, USA
END:VEVENT
END:VCALENDAR
