BEGIN:VCALENDAR
CALSCALE:GREGORIAN
BEGIN:VEVENT
DTSTAMP:20250112T004923Z
DTSTART:20231202T010022Z
DTEND:20231202T030022Z
SUMMARY:Wreath Workshop Event at Merryvale Vineyards in St. Helena
UID:e2fe3f01-8b1a-4036-9e9c-fa4878b5fe89
LOCATION:1000 Main St\, St Helena\, CA 94574\, USA
X-ALT-DESC;FMTTYPE=text/html:
END:VEVENT
END:VCALENDAR
