BEGIN:VCALENDAR
CALSCALE:GREGORIAN
BEGIN:VEVENT
DTSTAMP:20250112T004816Z
DTSTART:20230505T010000Z
DTEND:20230505T030000Z
SUMMARY:Paint Your Pet @ Zaina's Bellini Cafe 5/4/23
UID:ea79ffcd-dd4a-43f7-8647-7c3e35bb6c80
LOCATION:7981 Old Redwood Hwy Suite A\, Cotati\, CA 94931\, USA
DESCRIPTION:Thank you for registering to our painting event! Your name is on our list\, so don't forget your name\, lol. (Remember to bring your ID if its a drinking establishment) \n\nWe're looking forward to seeing you there.\n\nHere are the details:\nHere are the details:\n\nPaint Your Pet @ Zaina's Bellini Cafe 5/4/23\nMay 4\, 2023\, 6:00 – 8:00 PM\nCotati\, 7981 Old Redwood Hwy Suite A\, Cotati\, CA 94931\, USA
X-ALT-DESC;FMTTYPE=text/html:Thank you for registering to our painting event! Your name is on our list\, so don't forget your name\, lol. (Remember to bring your ID if its a drinking establishment) \n\nWe're looking forward to seeing you there.\n\nHere are the details:\nHere are the details:<br>Paint Your Pet @ Zaina's Bellini Cafe 5/4/23\nMay 4\, 2023\, 6:00 – 8:00 PM\nCotati\, 7981 Old Redwood Hwy Suite A\, Cotati\, CA 94931\, USA
END:VEVENT
END:VCALENDAR
