BEGIN:VCALENDAR
CALSCALE:GREGORIAN
BEGIN:VEVENT
DTSTAMP:20250112T004910Z
DTSTART:20230503T010000Z
DTEND:20230503T030000Z
SUMMARY:Painting @Zaina's Bellini Cafe 5/2/23
UID:ed73fefa-68d0-44e2-b373-21d9aadc9013
LOCATION:7981 Old Redwood Hwy Suite A\, Cotati\, CA 94931\, USA
DESCRIPTION:Thank you for registering to our painting event! Your name is on our list\, so don't forget your name\, lol. (Remember to bring your ID if its a drinking establishment) \n\nWe're looking forward to seeing you there.\n\nHere are the details:\nHere are the details:\n\nPainting @Zaina's Bellini Cafe 5/2/23\nMay 2\, 2023\, 6:00 – 8:00 PM\nZaina's Bellini Cafe Cotati\, 7981 Old Redwood Hwy Suite A\, Cotati\, CA 94931\, USA
X-ALT-DESC;FMTTYPE=text/html:Thank you for registering to our painting event! Your name is on our list\, so don't forget your name\, lol. (Remember to bring your ID if its a drinking establishment) \n\nWe're looking forward to seeing you there.\n\nHere are the details:\nHere are the details:<br>Painting @Zaina's Bellini Cafe 5/2/23\nMay 2\, 2023\, 6:00 – 8:00 PM\nZaina's Bellini Cafe Cotati\, 7981 Old Redwood Hwy Suite A\, Cotati\, CA 94931\, USA
END:VEVENT
END:VCALENDAR
