BEGIN:VCALENDAR
CALSCALE:GREGORIAN
BEGIN:VEVENT
DTSTAMP:20250112T005101Z
DTSTART:20230419T010000Z
DTEND:20230419T030000Z
SUMMARY:Living Succulent Wreath Workshop @Zaina's Bellini Cafe 4/18/23
UID:f648d7c1-8390-4765-a1b9-fc8e41afe8e5
LOCATION:7981 Old Redwood Hwy Suite A\, Cotati\, CA 94931\, USA
DESCRIPTION:Thank you for registering to our painting event! Your name is on our list\, so don't forget your name\, lol. (Remember to bring your ID if its a drinking establishment) \n\nWe're looking forward to seeing you there.\n\nHere are the details:\nHere are the details:\n\nLiving Succulent Wreath Workshop @Zaina's Bellini Cafe 4/18/23\nApril 18\, 2023\, 6:00 – 8:00 PM\nZaina's Bellini Cafe Cotati\, 7981 Old Redwood Hwy Suite A\, Cotati\, CA 94931\, USA
X-ALT-DESC;FMTTYPE=text/html:Thank you for registering to our painting event! Your name is on our list\, so don't forget your name\, lol. (Remember to bring your ID if its a drinking establishment) \n\nWe're looking forward to seeing you there.\n\nHere are the details:\nHere are the details:<br>Living Succulent Wreath Workshop @Zaina's Bellini Cafe 4/18/23\nApril 18\, 2023\, 6:00 – 8:00 PM\nZaina's Bellini Cafe Cotati\, 7981 Old Redwood Hwy Suite A\, Cotati\, CA 94931\, USA
END:VEVENT
END:VCALENDAR
