BEGIN:VCALENDAR
CALSCALE:GREGORIAN
BEGIN:VEVENT
DTSTAMP:20250112T005000Z
DTSTART:20220915T010000Z
DTEND:20220915T030000Z
SUMMARY:PAINT YOUR PET @ Sally Tomatoes 9/14/22
UID:f936c142-cccf-4e59-bbcd-a750d1d2034e
LOCATION:1100 Valley House Dr\, Rohnert Park\, CA 94928\, USA
DESCRIPTION:Thank you for registering to our painting event! Your name is on our list\, so don't forget your name\, lol. (Remember to bring your ID if its a drinking establishment) \n\nWe're looking forward to seeing you there.\n\nHere are the details:\nHere are the details:\n\nPAINT YOUR PET @ Sally Tomatoes 9/14/22\nSeptember 14\, 2022\, 6:00 – 8:00 PM\nSally Tomatoes in Rohnert Park\, 1100 Valley House Dr\, Rohnert Park\, CA 94928\, USA
X-ALT-DESC;FMTTYPE=text/html:Thank you for registering to our painting event! Your name is on our list\, so don't forget your name\, lol. (Remember to bring your ID if its a drinking establishment) \n\nWe're looking forward to seeing you there.\n\nHere are the details:\nHere are the details:<br>PAINT YOUR PET @ Sally Tomatoes 9/14/22\nSeptember 14\, 2022\, 6:00 – 8:00 PM\nSally Tomatoes in Rohnert Park\, 1100 Valley House Dr\, Rohnert Park\, CA 94928\, USA
END:VEVENT
END:VCALENDAR
