BEGIN:VCALENDAR
CALSCALE:GREGORIAN
BEGIN:VEVENT
DTSTAMP:20250112T005110Z
DTSTART:20240412T013000Z
DTEND:20240412T033000Z
SUMMARY:Poppy Painting@Mountain Mike's Pizza\, Cleveland Ave. Santa Rosa   
UID:f9a712b2-04bb-48ce-ba80-1455f9741706
LOCATION:3125 Cleveland Ave\, Santa Rosa\, CA 95403\, USA
DESCRIPTION:Thank you for registering to our painting event! Your name is on our list\, so don't forget your name\, lol. (Remember to bring your ID if its a drinking establishment) \n\nWe're looking forward to seeing you there.\n\nHere are the details:\nHere are the details:\n\nPoppy Painting@Mountain Mike's Pizza\, Cleveland Ave. Santa Rosa   \nApril 11\, 2024\, 6:30 – 8:30 PM\nMountian Mike's Pizza\, 3125 Cleveland Ave\, Santa Rosa\, CA 95403\, USA
X-ALT-DESC;FMTTYPE=text/html:Thank you for registering to our painting event! Your name is on our list\, so don't forget your name\, lol. (Remember to bring your ID if its a drinking establishment) \n\nWe're looking forward to seeing you there.\n\nHere are the details:\nHere are the details:<br>Poppy Painting@Mountain Mike's Pizza\, Cleveland Ave. Santa Rosa   \nApril 11\, 2024\, 6:30 – 8:30 PM\nMountian Mike's Pizza\, 3125 Cleveland Ave\, Santa Rosa\, CA 95403\, USA
END:VEVENT
END:VCALENDAR
