BEGIN:VCALENDAR
CALSCALE:GREGORIAN
BEGIN:VEVENT
DTSTAMP:20250112T004833Z
DTSTART:20221201T220000Z
DTEND:20221203T000000Z
SUMMARY:Jackson Family Wines Corporate Event
UID:f1e3d2a6-8621-450e-be1c-34e2c7b7d727
LOCATION:Santa Rosa
DESCRIPTION:Thank you for registering to our event! Your tickets are attached to this email. Don't forget to bring them.\n\nWe're looking forward to seeing you there.\n\nHere are the details:\n\nJackson Family Wines Corporate Event\nDecember 1\, 2022 at 2:00 PM – December 2\, 2022 at 4:00 PM\nJackson Family Wines\, Santa Rosa
X-ALT-DESC;FMTTYPE=text/html:Thank you for registering to our event! Your tickets are attached to this email. Don't forget to bring them.\n\nWe're looking forward to seeing you there.\n\nHere are the details:<br>Jackson Family Wines Corporate Event\nDecember 1\, 2022 at 2:00 PM – December 2\, 2022 at 4:00 PM\nJackson Family Wines\, Santa Rosa
END:VEVENT
END:VCALENDAR
