BEGIN:VCALENDAR
CALSCALE:GREGORIAN
BEGIN:VEVENT
DTSTAMP:20250112T004822Z
DTSTART:20240717T010000Z
DTEND:20240717T030000Z
SUMMARY: Painting@McNears in Petaluma  
UID:f3758734-b845-4cca-8c44-2bc9b076d453
LOCATION:23 Petaluma Blvd N\, Petaluma\, CA 94952\, USA
DESCRIPTION:Thank you for registering to our painting event! Your name is on our list\, so don't forget your name\, lol. (Remember to bring your ID if its a drinking establishment) \n\nWe're looking forward to seeing you there.\n\nHere are the details:\nHere are the details:\n\nPainting@McNears in Petaluma  \nJuly 16\, 2024\, 6:00 – 8:00 PM\nMcNear's Saloon & Dining House\, 23 Petaluma Blvd N\, Petaluma\, CA 94952\, USA
X-ALT-DESC;FMTTYPE=text/html:Thank you for registering to our painting event! Your name is on our list\, so don't forget your name\, lol. (Remember to bring your ID if its a drinking establishment) \n\nWe're looking forward to seeing you there.\n\nHere are the details:\nHere are the details:<br>Painting@McNears in Petaluma  \nJuly 16\, 2024\, 6:00 – 8:00 PM\nMcNear's Saloon & Dining House\, 23 Petaluma Blvd N\, Petaluma\, CA 94952\, USA
END:VEVENT
END:VCALENDAR
