BEGIN:VCALENDAR
CALSCALE:GREGORIAN
BEGIN:VEVENT
DTSTAMP:20250112T005024Z
DTSTART:20240330T020022Z
DTEND:20240330T040023Z
SUMMARY:Pearl's Birthday Painting Party
UID:fbc3e722-0cd8-43ec-ac97-857490b34f27
LOCATION:1251 Shiloh Rd\, Windsor\, CA 95492\, USA
DESCRIPTION:Thank you for registering to our painting event! Your name is on our list\, so don't forget your name\, lol. (Remember to bring your ID if its a drinking establishment) \n\nWe're looking forward to seeing you there.\n\nHere are the details:\nHere are the details:\n\nPearl's Birthday Painting Party\nMarch 29\, 2024\, 7:00 – 9:00 PM\nLobby in WorldMarket Windsor\, 1251 Shiloh Rd\, Windsor\, CA 95492\, USA
X-ALT-DESC;FMTTYPE=text/html:Thank you for registering to our painting event! Your name is on our list\, so don't forget your name\, lol. (Remember to bring your ID if its a drinking establishment) \n\nWe're looking forward to seeing you there.\n\nHere are the details:\nHere are the details:<br>Pearl's Birthday Painting Party\nMarch 29\, 2024\, 7:00 – 9:00 PM\nLobby in WorldMarket Windsor\, 1251 Shiloh Rd\, Windsor\, CA 95492\, USA
END:VEVENT
END:VCALENDAR
