BEGIN:VCALENDAR
CALSCALE:GREGORIAN
BEGIN:VEVENT
DTSTAMP:20250112T004824Z
DTSTART:20230211T020000Z
DTEND:20230211T040000Z
SUMMARY:Painting Event at Korbel
UID:fcee054d-e858-4adb-9bca-8d84dfc5e4eb
LOCATION:13250 River Rd\, Guerneville\, CA 95446\, USA
DESCRIPTION:Thank you for registering to our event! Your tickets are attached to this email. Don't forget to bring them.\n\nWe're looking forward to seeing you there.\n\nHere are the details:\n\nPainting Event at Korbel\nFebruary 10\, 2023\, 6:00 – 8:00 PM\nKorbel\, 13250 River Rd\, Guerneville\, CA 95446\, USA
X-ALT-DESC;FMTTYPE=text/html:Thank you for registering to our event! Your tickets are attached to this email. Don't forget to bring them.\n\nWe're looking forward to seeing you there.\n\nHere are the details:<br>Painting Event at Korbel\nFebruary 10\, 2023\, 6:00 – 8:00 PM\nKorbel\, 13250 River Rd\, Guerneville\, CA 95446\, USA
END:VEVENT
END:VCALENDAR
