BEGIN:VCALENDAR
CALSCALE:GREGORIAN
BEGIN:VEVENT
DTSTAMP:20250112T004812Z
DTSTART:20210729T013000Z
DTEND:20210729T053000Z
SUMMARY:Sunflower at reel and brand
UID:fff1d8c4-7ae6-4f7d-a0ee-aefc2f875e25
LOCATION:401 Grove St\, Sonoma\, CA 95476\, USA
DESCRIPTION:Thank you for registering to our painting event! Your name is on our list\, so don't forget your name\, lol. (Remember to bring your ID if its a drinking establishment) \n\nWe're looking forward to seeing you there.\n\nHere are the details:\n\nSunflower at reel and brand\nJuly 28\, 2021 at 6:30 PM\nSonoma\, 401 Grove St\, Sonoma\, CA 95476\, USA
X-ALT-DESC;FMTTYPE=text/html:Thank you for registering to our painting event! Your name is on our list\, so don't forget your name\, lol. (Remember to bring your ID if its a drinking establishment) \n\nWe're looking forward to seeing you there.\n\nHere are the details:<br>Sunflower at reel and brand\nJuly 28\, 2021 at 6:30 PM\nSonoma\, 401 Grove St\, Sonoma\, CA 95476\, USA
END:VEVENT
END:VCALENDAR
