BEGIN:VCALENDAR
CALSCALE:GREGORIAN
BEGIN:VEVENT
DTSTAMP:20231030T194455Z
DTSTART:20230824T000000Z
DTEND:20230824T020000Z
SUMMARY:Campaign Kick-Off
UID:0eaf20f7-eb54-481c-8452-50c14bb4596c
LOCATION:12908 N US-395\, Spokane\, WA 99218\, USA
DESCRIPTION:Thank you for registering to our event!\n\nWe're looking forward to seeing you there.\n\nHere are the event details:\n\nCampaign Kick-Off\nAugust 23\, 2023\, 5:00 – 7:00 PM\nBirdy's Sports Bar Outdoor Patio\, 12908 N US-395\, Spokane\, WA 99218\, USA
X-ALT-DESC;FMTTYPE=text/html:Thank you for registering to our event!\n\nWe're looking forward to seeing you there.\n\nHere are the event details:<br>Campaign Kick-Off\nAugust 23\, 2023\, 5:00 – 7:00 PM\nBirdy's Sports Bar Outdoor Patio\, 12908 N US-395\, Spokane\, WA 99218\, USA
END:VEVENT
END:VCALENDAR
