BEGIN:VCALENDAR
CALSCALE:GREGORIAN
BEGIN:VEVENT
DTSTAMP:20231030T194626Z
DTSTART:20231004T003000Z
DTEND:20231005T030000Z
SUMMARY:Fundraising reception for Cannon\, Killman & Nolan
UID:eabe777b-389f-4084-ac0f-6c6236fe6f49
LOCATION:38 W Ballard Rd\, Colbert\, WA 99005\, USA
DESCRIPTION:Thank you for registering to our event! Your tickets are attached to this email. Don't forget to bring them.\n\nWe're looking forward to seeing you there.\n\nHere are the details:\n\nFundraising reception for Cannon\, Killman & Nolan\nOctober 3\, 2023 at 5:30 PM – October 4\, 2023 at 8:00 PM\nBallard Meadows\, 38 W Ballard Rd\, Colbert\, WA 99005\, USA
X-ALT-DESC;FMTTYPE=text/html:Thank you for registering to our event! Your tickets are attached to this email. Don't forget to bring them.\n\nWe're looking forward to seeing you there.\n\nHere are the details:<br>Fundraising reception for Cannon\, Killman & Nolan\nOctober 3\, 2023 at 5:30 PM – October 4\, 2023 at 8:00 PM\nBallard Meadows\, 38 W Ballard Rd\, Colbert\, WA 99005\, USA
END:VEVENT
END:VCALENDAR
