BEGIN:VCALENDAR
CALSCALE:GREGORIAN
BEGIN:VEVENT
DTSTAMP:20231030T194504Z
DTSTART:20230924T000013Z
DTEND:20230924T020014Z
SUMMARY:Popsicles in the Park - template
UID:f0bd38b1-bae1-4812-b70d-4a40bc7d8f23
LOCATION:310 W Regina Ave\, Spokane\, WA 99218\, USA
DESCRIPTION:Thank you for registering to our event!\n\nWe're looking forward to seeing you there.\n\nHere are the event details:\n\nPopsicles in the Park - template\nSeptember 23\, 2023\, 5:00 – 7:00 PM\nNorthwoods Community Park\, 310 W Regina Ave\, Spokane\, WA 99218\, USA
X-ALT-DESC;FMTTYPE=text/html:Thank you for registering to our event!\n\nWe're looking forward to seeing you there.\n\nHere are the event details:<br>Popsicles in the Park - template\nSeptember 23\, 2023\, 5:00 – 7:00 PM\nNorthwoods Community Park\, 310 W Regina Ave\, Spokane\, WA 99218\, USA
END:VEVENT
END:VCALENDAR
