BEGIN:VCALENDAR
CALSCALE:GREGORIAN
BEGIN:VEVENT
DTSTAMP:20220915T030127Z
DTSTART:20220825T230000Z
DTEND:20220825T230500Z
SUMMARY:Preventing Teen Dating Violence (4)
UID:062c8d2f-1627-47e8-b10e-a0b12a19e912
LOCATION:
DESCRIPTION:Thank you for registering to our event! Your tickets are attached to this email. Don't forget to bring them.\n\nWe're looking forward to seeing you there.\n\nHere are the details:\n\nPreventing Teen Dating Violence (4)\nAugust 25\, 2022\, 7:00 – 7:05 PM EDT\nOnline Webinar
X-ALT-DESC;FMTTYPE=text/html:Thank you for registering to our event! Your tickets are attached to this email. Don't forget to bring them.\n\nWe're looking forward to seeing you there.\n\nHere are the details:<br>Preventing Teen Dating Violence (4)\nAugust 25\, 2022\, 7:00 – 7:05 PM EDT\nOnline Webinar
END:VEVENT
END:VCALENDAR
