BEGIN:VCALENDAR
CALSCALE:GREGORIAN
BEGIN:VEVENT
DTSTAMP:20220915T030110Z
DTSTART:20220919T140000Z
DTEND:20220920T140000Z
SUMMARY:CDA One Week Intensive Zoom (3)
UID:02a24e05-e07a-47c5-8dc8-49ec6fb4be1d
LOCATION:
DESCRIPTION:Thank you for registering to our event! Your tickets are attached to this email. Don't forget to bring them.\n\nWe're looking forward to seeing you there.\n\nHere are the details:\n\nCDA One Week Intensive Zoom (3)\nSeptember 19\, 2022 at 10:00 AM – September 20\, 2022 at 10:00 AM EDT\nOnline Zoom Event
X-ALT-DESC;FMTTYPE=text/html:Thank you for registering to our event! Your tickets are attached to this email. Don't forget to bring them.\n\nWe're looking forward to seeing you there.\n\nHere are the details:<br>CDA One Week Intensive Zoom (3)\nSeptember 19\, 2022 at 10:00 AM – September 20\, 2022 at 10:00 AM EDT\nOnline Zoom Event
END:VEVENT
END:VCALENDAR
