BEGIN:VCALENDAR
CALSCALE:GREGORIAN
BEGIN:VEVENT
DTSTAMP:20220915T030139Z
DTSTART:20220826T120000Z
DTEND:20220828T210000Z
SUMMARY:CDA Prep Weekend Intensive (2)
UID:0bd726da-ab68-4aa0-ab14-cd99732fe15e
LOCATION:1001 Washington St\, Columbia\, SC 29201\, USA
DESCRIPTION:Thank you for registering to our event! Your tickets are attached to this email. Don't forget to bring them.\n\nWe're looking forward to seeing you there.\n\nHere are the details:\n\nCDA Prep Weekend Intensive (2)\nAugust 26\, 2022 at 8:00 AM – August 28\, 2022 at 5:00 PM EDT\nColumbia\, 1001 Washington St\, Columbia\, SC 29201\, USA
X-ALT-DESC;FMTTYPE=text/html:Thank you for registering to our event! Your tickets are attached to this email. Don't forget to bring them.\n\nWe're looking forward to seeing you there.\n\nHere are the details:<br>CDA Prep Weekend Intensive (2)\nAugust 26\, 2022 at 8:00 AM – August 28\, 2022 at 5:00 PM EDT\nColumbia\, 1001 Washington St\, Columbia\, SC 29201\, USA
END:VEVENT
END:VCALENDAR
