BEGIN:VCALENDAR
CALSCALE:GREGORIAN
BEGIN:VEVENT
DTSTAMP:20220915T030142Z
DTSTART:20220914T230000Z
DTEND:20220914T230500Z
SUMMARY:Enhancing Reasoning Through Mathematics  (6)
UID:0ef532d7-5460-4acd-9d14-34d030e7fe21
LOCATION:
DESCRIPTION:Thank you for registering to our event! Your tickets are attached to this email. Don't forget to bring them.\n\nWe're looking forward to seeing you there.\n\nHere are the details:\n\nEnhancing Reasoning Through Mathematics  (6)\nSeptember 14\, 2022\, 7:00 – 7:05 PM EDT\nOnline Webinar
X-ALT-DESC;FMTTYPE=text/html:Thank you for registering to our event! Your tickets are attached to this email. Don't forget to bring them.\n\nWe're looking forward to seeing you there.\n\nHere are the details:<br>Enhancing Reasoning Through Mathematics  (6)\nSeptember 14\, 2022\, 7:00 – 7:05 PM EDT\nOnline Webinar
END:VEVENT
END:VCALENDAR
