BEGIN:VCALENDAR
CALSCALE:GREGORIAN
BEGIN:VEVENT
DTSTAMP:20220915T030139Z
DTSTART:20220918T230000Z
DTEND:20220919T230000Z
SUMMARY:Blood Borne Pathogen (8)
UID:126d6271-e1db-4d84-b1fe-a2fea16c379e
LOCATION:1001 Washington St\, Columbia\, SC 29201\, USA
DESCRIPTION:Thank you for registering to our event! Your tickets are attached to this email. Don't forget to bring them.\n\nWe're looking forward to seeing you there.\n\nHere are the details:\n\nBlood Borne Pathogen (8)\nSeptember 18\, 2022 at 7:00 PM – September 19\, 2022 at 7:00 PM EDT\nEarly Education Career Institute\, 1001 Washington St\, Columbia\, SC 29201\, USA
X-ALT-DESC;FMTTYPE=text/html:Thank you for registering to our event! Your tickets are attached to this email. Don't forget to bring them.\n\nWe're looking forward to seeing you there.\n\nHere are the details:<br>Blood Borne Pathogen (8)\nSeptember 18\, 2022 at 7:00 PM – September 19\, 2022 at 7:00 PM EDT\nEarly Education Career Institute\, 1001 Washington St\, Columbia\, SC 29201\, USA
END:VEVENT
END:VCALENDAR
