BEGIN:VCALENDAR
CALSCALE:GREGORIAN
BEGIN:VEVENT
DTSTAMP:20220915T030139Z
DTSTART:20220916T233000Z
DTEND:20220916T233500Z
SUMMARY:Pancakes and PJs  Advocacy Night (3)
UID:1381f09c-324b-49ba-815d-bc8486feeb36
LOCATION:1001 Washington St\, Columbia\, SC 29201\, USA
DESCRIPTION:Thank you for registering to our event! Your tickets are attached to this email. Don't forget to bring them.\n\nWe're looking forward to seeing you there.\n\nHere are the details:\n\nPancakes and PJs  Advocacy Night (3)\nSeptember 16\, 2022\, 7:30 – 7:35 PM EDT\nEarly Education Career Institute\, 1001 Washington St\, Columbia\, SC 29201\, USA
X-ALT-DESC;FMTTYPE=text/html:Thank you for registering to our event! Your tickets are attached to this email. Don't forget to bring them.\n\nWe're looking forward to seeing you there.\n\nHere are the details:<br>Pancakes and PJs  Advocacy Night (3)\nSeptember 16\, 2022\, 7:30 – 7:35 PM EDT\nEarly Education Career Institute\, 1001 Washington St\, Columbia\, SC 29201\, USA
END:VEVENT
END:VCALENDAR
