BEGIN:VCALENDAR
CALSCALE:GREGORIAN
BEGIN:VEVENT
DTSTAMP:20220915T030013Z
DTSTART:20220901T140000Z
DTEND:20220901T140500Z
SUMMARY:Planning A Healthy Learning Environment (4)
UID:1ee6fa36-3827-4f90-a8f5-2cf035868f49
LOCATION:1001 Washington St\, Columbia\, SC 29201\, USA
DESCRIPTION:Thank you for registering to our event! Your tickets are attached to this email. Don't forget to bring them.\n\nWe're looking forward to seeing you there.\n\nHere are the details:\n\nPlanning A Healthy Learning Environment (4)\nSeptember 1\, 2022\, 10:00 – 10:05 AM EDT\nEarly Education Career Institute\, 1001 Washington St\, Columbia\, SC 29201\, USA
X-ALT-DESC;FMTTYPE=text/html:Thank you for registering to our event! Your tickets are attached to this email. Don't forget to bring them.\n\nWe're looking forward to seeing you there.\n\nHere are the details:<br>Planning A Healthy Learning Environment (4)\nSeptember 1\, 2022\, 10:00 – 10:05 AM EDT\nEarly Education Career Institute\, 1001 Washington St\, Columbia\, SC 29201\, USA
END:VEVENT
END:VCALENDAR
