BEGIN:VCALENDAR
CALSCALE:GREGORIAN
BEGIN:VEVENT
DTSTAMP:20220915T030125Z
DTSTART:20220923T140000Z
DTEND:20220924T140000Z
SUMMARY:CDA Prep Live Instruction (1)
UID:213ee2d0-5e77-4c8a-b121-d8639a603037
LOCATION:
DESCRIPTION:Thank you for registering to our event! Your tickets are attached to this email. Don't forget to bring them.\n\nWe're looking forward to seeing you there.\n\nHere are the details:\n\nCDA Prep Live Instruction (1)\nSeptember 23\, 2022 at 10:00 AM – September 24\, 2022 at 10:00 AM EDT\nLive Zoom
X-ALT-DESC;FMTTYPE=text/html:Thank you for registering to our event! Your tickets are attached to this email. Don't forget to bring them.\n\nWe're looking forward to seeing you there.\n\nHere are the details:<br>CDA Prep Live Instruction (1)\nSeptember 23\, 2022 at 10:00 AM – September 24\, 2022 at 10:00 AM EDT\nLive Zoom
END:VEVENT
END:VCALENDAR
