BEGIN:VCALENDAR
CALSCALE:GREGORIAN
BEGIN:VEVENT
DTSTAMP:20220915T030003Z
DTSTART:20220913T230000Z
DTEND:20220914T010000Z
SUMMARY:Planning A Healthy Learning Environment (3)
UID:21b39d96-4898-4018-bf99-8057a74c3d41
LOCATION:1001 Washington St\, Columbia\, SC 29201\, USA
DESCRIPTION:Thank you for registering to our event! Your tickets are attached to this email. Don't forget to bring them.\n\nWe're looking forward to seeing you there.\n\nHere are the details:\n\nPlanning A Healthy Learning Environment (3)\nSeptember 13\, 2022\, 7:00 – 9:00 PM EDT\nEarly Education Career Institute\, 1001 Washington St\, Columbia\, SC 29201\, USA
X-ALT-DESC;FMTTYPE=text/html:Thank you for registering to our event! Your tickets are attached to this email. Don't forget to bring them.\n\nWe're looking forward to seeing you there.\n\nHere are the details:<br>Planning A Healthy Learning Environment (3)\nSeptember 13\, 2022\, 7:00 – 9:00 PM EDT\nEarly Education Career Institute\, 1001 Washington St\, Columbia\, SC 29201\, USA
END:VEVENT
END:VCALENDAR
