BEGIN:VCALENDAR
CALSCALE:GREGORIAN
BEGIN:VEVENT
DTSTAMP:20220915T030113Z
DTSTART:20220831T140000Z
DTEND:20220831T140500Z
SUMMARY:Planning A Healthy Learning Environment (4)
UID:2c65c704-3193-42a4-8edc-8e5a1aed69c2
LOCATION:1001 Washington St\, Columbia\, SC 29201\, USA
DESCRIPTION:Thank you for registering to our event! Your tickets are attached to this email. Don't forget to bring them.\n\nWe're looking forward to seeing you there.\n\nHere are the details:\n\nPlanning A Healthy Learning Environment (4)\nAugust 31\, 2022\, 10:00 – 10:05 AM EDT\nEarly Education Career Institute\, 1001 Washington St\, Columbia\, SC 29201\, USA
X-ALT-DESC;FMTTYPE=text/html:Thank you for registering to our event! Your tickets are attached to this email. Don't forget to bring them.\n\nWe're looking forward to seeing you there.\n\nHere are the details:<br>Planning A Healthy Learning Environment (4)\nAugust 31\, 2022\, 10:00 – 10:05 AM EDT\nEarly Education Career Institute\, 1001 Washington St\, Columbia\, SC 29201\, USA
END:VEVENT
END:VCALENDAR
