BEGIN:VCALENDAR
CALSCALE:GREGORIAN
BEGIN:VEVENT
DTSTAMP:20220915T030127Z
DTSTART:20220906T220000Z
DTEND:20220907T000000Z
SUMMARY:SCSU Family Consumer Science CDA 
UID:431db0d9-aaf5-4226-9ce1-4b607d42c54a
LOCATION:300 College Ave\, Orangeburg\, SC 29117\, USA
DESCRIPTION:Thank you for registering to our event!\n\nWe're looking forward to seeing you there.\n\nHere are the event details:\n\nSCSU Family Consumer Science CDA \nSeptember 6\, 2022\, 6:00 – 8:00 PM\nSouth Carolina State University\, 300 College Ave\, Orangeburg\, SC 29117\, USA
X-ALT-DESC;FMTTYPE=text/html:Thank you for registering to our event!\n\nWe're looking forward to seeing you there.\n\nHere are the event details:<br>SCSU Family Consumer Science CDA \nSeptember 6\, 2022\, 6:00 – 8:00 PM\nSouth Carolina State University\, 300 College Ave\, Orangeburg\, SC 29117\, USA
END:VEVENT
END:VCALENDAR
