BEGIN:VCALENDAR
CALSCALE:GREGORIAN
BEGIN:VEVENT
DTSTAMP:20220915T030101Z
DTSTART:20220903T120000Z
DTEND:20220905T160000Z
SUMMARY:CDA Prep Weekend Intensive (3)
UID:55c755b9-527b-4a34-a02f-10b825e0bb1e
LOCATION:1001 Washington St\, Columbia\, SC 29201\, USA
DESCRIPTION:Thank you for registering to our event! Your tickets are attached to this email. Don't forget to bring them.\n\nWe're looking forward to seeing you there.\n\nHere are the details:\n\nCDA Prep Weekend Intensive (3)\nSeptember 3\, 2022 at 8:00 AM – September 5\, 2022 at 12:00 PM EDT\nColumbia\, 1001 Washington St\, Columbia\, SC 29201\, USA
X-ALT-DESC;FMTTYPE=text/html:Thank you for registering to our event! Your tickets are attached to this email. Don't forget to bring them.\n\nWe're looking forward to seeing you there.\n\nHere are the details:<br>CDA Prep Weekend Intensive (3)\nSeptember 3\, 2022 at 8:00 AM – September 5\, 2022 at 12:00 PM EDT\nColumbia\, 1001 Washington St\, Columbia\, SC 29201\, USA
END:VEVENT
END:VCALENDAR
