BEGIN:VCALENDAR
CALSCALE:GREGORIAN
BEGIN:VEVENT
DTSTAMP:20220915T030034Z
DTSTART:20220915T230000Z
DTEND:20220916T000000Z
SUMMARY:CDA Instructor Led Support 
UID:65816cf0-4c82-4884-a48a-891df1bac9d4
LOCATION:
DESCRIPTION:Thank you for registering to our event! Your tickets are attached to this email. Don't forget to bring them.\n\nWe're looking forward to seeing you there.\n\nHere are the details:\n\nCDA Instructor Led Support \nSeptember 15\, 2022\, 7:00 – 8:00 PM EDT\nOnline Live Instruction
X-ALT-DESC;FMTTYPE=text/html:Thank you for registering to our event! Your tickets are attached to this email. Don't forget to bring them.\n\nWe're looking forward to seeing you there.\n\nHere are the details:<br>CDA Instructor Led Support \nSeptember 15\, 2022\, 7:00 – 8:00 PM EDT\nOnline Live Instruction
END:VEVENT
END:VCALENDAR
