BEGIN:VCALENDAR
CALSCALE:GREGORIAN
BEGIN:VEVENT
DTSTAMP:20220915T030013Z
DTSTART:20220825T150000Z
DTEND:20220825T150500Z
SUMMARY:Professional Development Processes for Directors (7)
UID:6c633ff3-1943-42e0-b0d8-454981f621dc
LOCATION:1001 Washington St\, Columbia\, SC 29201\, USA
DESCRIPTION:Thank you for registering to our event! Your tickets are attached to this email. Don't forget to bring them.\n\nWe're looking forward to seeing you there.\n\nHere are the details:\n\nProfessional Development Processes for Directors (7)\nAugust 25\, 2022\, 11:00 – 11:05 AM EDT\nEarly Education Career Institute\, 1001 Washington St\, Columbia\, SC 29201\, USA
X-ALT-DESC;FMTTYPE=text/html:Thank you for registering to our event! Your tickets are attached to this email. Don't forget to bring them.\n\nWe're looking forward to seeing you there.\n\nHere are the details:<br>Professional Development Processes for Directors (7)\nAugust 25\, 2022\, 11:00 – 11:05 AM EDT\nEarly Education Career Institute\, 1001 Washington St\, Columbia\, SC 29201\, USA
END:VEVENT
END:VCALENDAR
