BEGIN:VCALENDAR
CALSCALE:GREGORIAN
BEGIN:VEVENT
DTSTAMP:20220915T030004Z
DTSTART:20220910T140000Z
DTEND:20220911T140000Z
SUMMARY:Family Child Care Shower (2)
UID:7adae26b-0d3e-4acf-80d3-06312935bf11
LOCATION:1001 Washington St\, Columbia\, SC 29201\, USA
DESCRIPTION:Thank you for registering to our event! Your tickets are attached to this email. Don't forget to bring them.\n\nWe're looking forward to seeing you there.\n\nHere are the details:\n\nFamily Child Care Shower (2)\nSeptember 10\, 2022 at 10:00 AM – September 11\, 2022 at 10:00 AM\nEarly Education Career Institute\, 1001 Washington St\, Columbia\, SC 29201\, USA
X-ALT-DESC;FMTTYPE=text/html:Thank you for registering to our event! Your tickets are attached to this email. Don't forget to bring them.\n\nWe're looking forward to seeing you there.\n\nHere are the details:<br>Family Child Care Shower (2)\nSeptember 10\, 2022 at 10:00 AM – September 11\, 2022 at 10:00 AM\nEarly Education Career Institute\, 1001 Washington St\, Columbia\, SC 29201\, USA
END:VEVENT
END:VCALENDAR
