BEGIN:VCALENDAR
CALSCALE:GREGORIAN
BEGIN:VEVENT
DTSTAMP:20220915T030055Z
DTSTART:20220926T140000Z
DTEND:20220926T140500Z
SUMMARY:Bring Them Back Safely  (1)
UID:7c84e644-d7bd-440a-98dc-e6171ee08d55
LOCATION:1001 Washington St\, Columbia\, SC 29201\, USA
DESCRIPTION:Thank you for registering to our event! Your tickets are attached to this email. Don't forget to bring them.\n\nWe're looking forward to seeing you there.\n\nIf you will be joining us online here is your link to attend:\nhttps://meet679445264.adobeconnect.com/postpandemicecewebinar/\n\nJoining us in Columbia\, here are the details:\n\nBring Them Back Safely  (1)\nSeptember 26\, 2022\, 10:00 – 10:05 AM EDT\nEarly Education Career Institute\, 1001 Washington St\, Columbia\, SC 29201\, USA
X-ALT-DESC;FMTTYPE=text/html:Thank you for registering to our event! Your tickets are attached to this email. Don't forget to bring them.\n\nWe're looking forward to seeing you there.\n\nIf you will be joining us online here is your link to attend:\nhttps://meet679445264.adobeconnect.com/postpandemicecewebinar/\n\nJoining us in Columbia\, here are the details:<br>Bring Them Back Safely  (1)\nSeptember 26\, 2022\, 10:00 – 10:05 AM EDT\nEarly Education Career Institute\, 1001 Washington St\, Columbia\, SC 29201\, USA
END:VEVENT
END:VCALENDAR
