BEGIN:VCALENDAR
CALSCALE:GREGORIAN
BEGIN:VEVENT
DTSTAMP:20220915T030039Z
DTSTART:20220924T140000Z
DTEND:20220925T140000Z
SUMMARY:CDA Instructor Led Support (2)
UID:8ca6c02b-ba07-45be-a8c1-39bce40983e6
LOCATION:
DESCRIPTION:Thank you for registering to our event! Your tickets are attached to this email. Don't forget to bring them.\n\nWe're looking forward to seeing you there.\n\nHere are the details:\n\nCDA Instructor Led Support (2)\nSeptember 24\, 2022 at 10:00 AM – September 25\, 2022 at 10:00 AM EDT\nOnline Live Instruction
X-ALT-DESC;FMTTYPE=text/html:Thank you for registering to our event! Your tickets are attached to this email. Don't forget to bring them.\n\nWe're looking forward to seeing you there.\n\nHere are the details:<br>CDA Instructor Led Support (2)\nSeptember 24\, 2022 at 10:00 AM – September 25\, 2022 at 10:00 AM EDT\nOnline Live Instruction
END:VEVENT
END:VCALENDAR
