BEGIN:VCALENDAR
CALSCALE:GREGORIAN
BEGIN:VEVENT
DTSTAMP:20220915T030037Z
DTSTART:20221011T230000Z
DTEND:20221012T000000Z
SUMMARY:CDA Instructor Led Support 
UID:a67e7aaa-8212-4fec-8de7-afbb7245775b
LOCATION:
DESCRIPTION:Thank you for registering to our event! Your tickets are attached to this email. Don't forget to bring them.\n\nWe're looking forward to seeing you there.\n\nHere are the details:\n\nCDA Instructor Led Support \nOctober 11\, 2022\, 7:00 – 8:00 PM EDT\nOnline Live Instruction
X-ALT-DESC;FMTTYPE=text/html:Thank you for registering to our event! Your tickets are attached to this email. Don't forget to bring them.\n\nWe're looking forward to seeing you there.\n\nHere are the details:<br>CDA Instructor Led Support \nOctober 11\, 2022\, 7:00 – 8:00 PM EDT\nOnline Live Instruction
END:VEVENT
END:VCALENDAR
