BEGIN:VCALENDAR
CALSCALE:GREGORIAN
BEGIN:VEVENT
DTSTAMP:20220915T030010Z
DTSTART:20220913T220000Z
DTEND:20220914T000000Z
SUMMARY:SCSU Family Consumer Science CDA 
UID:a80953a9-6057-477b-bbfc-94346cb958b8
LOCATION:300 College Ave\, Orangeburg\, SC 29117\, USA
DESCRIPTION:Thank you for registering to our event!\n\nWe're looking forward to seeing you there.\n\nHere are the event details:\n\nSCSU Family Consumer Science CDA \nSeptember 13\, 2022\, 6:00 – 8:00 PM\nSouth Carolina State University\, 300 College Ave\, Orangeburg\, SC 29117\, USA
X-ALT-DESC;FMTTYPE=text/html:Thank you for registering to our event!\n\nWe're looking forward to seeing you there.\n\nHere are the event details:<br>SCSU Family Consumer Science CDA \nSeptember 13\, 2022\, 6:00 – 8:00 PM\nSouth Carolina State University\, 300 College Ave\, Orangeburg\, SC 29117\, USA
END:VEVENT
END:VCALENDAR
